BEGIN:VCALENDAR
VERSION:2.0
PRODID:-//Caloundra RSL - ECPv6.15.20//NONSGML v1.0//EN
CALSCALE:GREGORIAN
METHOD:PUBLISH
X-WR-CALNAME:Caloundra RSL
X-ORIGINAL-URL:https://caloundrarsl.com.au
X-WR-CALDESC:Events for Caloundra RSL
REFRESH-INTERVAL;VALUE=DURATION:PT1H
X-Robots-Tag:noindex
X-PUBLISHED-TTL:PT1H
BEGIN:VTIMEZONE
TZID:UTC
BEGIN:STANDARD
TZOFFSETFROM:+0000
TZOFFSETTO:+0000
TZNAME:UTC
DTSTART:20250101T000000
END:STANDARD
END:VTIMEZONE
BEGIN:VEVENT
DTSTART;TZID=UTC:20260502T100000
DTEND;TZID=UTC:20260502T123000
DTSTAMP:20260420T234420
CREATED:20260420T042854Z
LAST-MODIFIED:20260420T042855Z
UID:10009599-1777716000-1777725000@caloundrarsl.com.au
SUMMARY:Club Raffles
DESCRIPTION:20 Meat Trays and 2 $50 Club Vouchers are up for grabs every Saturday Lunch in our Club Raffles. \nTickets on sale from 10.00am to 12.15pm \nDraws take place from 12.30pm
URL:https://caloundrarsl.com.au/event/meat-tray-raffles-2/2026-05-02/
CATEGORIES:Calendar,Club Promotions,Raffles
ATTACH;FMTTYPE=image/jpeg:https://caloundrarsl.com.au/wp-content/uploads/2025/04/Raffles-Web.jpg
END:VEVENT
END:VCALENDAR