BEGIN:VCALENDAR
VERSION:2.0
PRODID:-//Caloundra RSL - ECPv6.15.20//NONSGML v1.0//EN
CALSCALE:GREGORIAN
METHOD:PUBLISH
X-WR-CALNAME:Caloundra RSL
X-ORIGINAL-URL:https://caloundrarsl.com.au
X-WR-CALDESC:Events for Caloundra RSL
REFRESH-INTERVAL;VALUE=DURATION:PT1H
X-Robots-Tag:noindex
X-PUBLISHED-TTL:PT1H
BEGIN:VTIMEZONE
TZID:UTC
BEGIN:STANDARD
TZOFFSETFROM:+0000
TZOFFSETTO:+0000
TZNAME:UTC
DTSTART:20240101T000000
END:STANDARD
END:VTIMEZONE
BEGIN:VEVENT
DTSTART;TZID=UTC:20251017T153000
DTEND;TZID=UTC:20251017T223000
DTSTAMP:20260420T185000
CREATED:20250914T152032Z
LAST-MODIFIED:20250914T152032Z
UID:1423-1760715000-1760740200@caloundrarsl.com.au
SUMMARY:LIVE & FREE FRIDAY
DESCRIPTION:3.30pm – Shane Wilkinson\n7.30pm – Loose Talk\nJoin us every Friday for LIVE & FREE ENTERTAINMENT on the Main Stage!!\nPlease note: Whilst we do our best to keep our bands updated\, changes can occur at the last moment.
URL:https://caloundrarsl.com.au/event/live-free-friday-28/
CATEGORIES:Calendar,Entertainment,Live & Free
ATTACH;FMTTYPE=image/jpeg:https://caloundrarsl.com.au/wp-content/uploads/2025/04/1.jpg
END:VEVENT
END:VCALENDAR