BEGIN:VCALENDAR
VERSION:2.0
PRODID:-//Caloundra RSL - ECPv6.15.20//NONSGML v1.0//EN
CALSCALE:GREGORIAN
METHOD:PUBLISH
X-WR-CALNAME:Caloundra RSL
X-ORIGINAL-URL:https://caloundrarsl.com.au
X-WR-CALDESC:Events for Caloundra RSL
REFRESH-INTERVAL;VALUE=DURATION:PT1H
X-Robots-Tag:noindex
X-PUBLISHED-TTL:PT1H
BEGIN:VTIMEZONE
TZID:UTC
BEGIN:STANDARD
TZOFFSETFROM:+0000
TZOFFSETTO:+0000
TZNAME:UTC
DTSTART:20240101T000000
END:STANDARD
END:VTIMEZONE
BEGIN:VEVENT
DTSTART;TZID=UTC:20250411T150000
DTEND;TZID=UTC:20250411T170000
DTSTAMP:20260420T202933
CREATED:20250402T150302Z
LAST-MODIFIED:20250402T150302Z
UID:912-1744383600-1744390800@caloundrarsl.com.au
SUMMARY:Kids School Holiday Program - Kids Disco
DESCRIPTION:📅 Friday\, 11th April 2025\n⏰ 3:00 PM – 5:00 PM\n📍 Sunshine Coast Function Centre @ Caloundra RSL \nGet ready to dance\, sing\, and party at the ultimate Kids Disco with DJ Candi! With an epic kid-friendly playlist\, interactive games\, and vibrant light effects\, this high-energy event is perfect for little partygoers who love to move and groove! \n🎵 Non-stop music & dancing\n💡 Awesome disco lights & party vibes \nDJ Candi knows how to bring the fun\, keeping the kids entertained from start to finish with exciting beats\, interactive activities\, and an electric atmosphere! \n🎟 Ticket Info:\nOnly children require tickets! Parents/guardians can stay and watch or leave their little dancers in the care of our qualified (Blue Card) staff. \n📢 Limited spots available – book now for the ultimate kids’ disco experience! 🕺💫
URL:https://caloundrarsl.com.au/event/kids-school-holiday-program-kids-disco/
CATEGORIES:Calendar
ATTACH;FMTTYPE=image/png:https://caloundrarsl.com.au/wp-content/uploads/2025/04/Kids-Disco-800-x-800.png
END:VEVENT
END:VCALENDAR